BEGIN:VCALENDAR
VERSION:2.0
PRODID:-//atomicmassgames - ECPv6.8.3//NONSGML v1.0//EN
CALSCALE:GREGORIAN
METHOD:PUBLISH
X-WR-CALNAME:atomicmassgames
X-ORIGINAL-URL:https://www.atomicmassgames.com
X-WR-CALDESC:Events for atomicmassgames
REFRESH-INTERVAL;VALUE=DURATION:PT1H
X-Robots-Tag:noindex
X-PUBLISHED-TTL:PT1H
BEGIN:VTIMEZONE
TZID:America/Vancouver
BEGIN:DAYLIGHT
TZOFFSETFROM:-0800
TZOFFSETTO:-0700
TZNAME:PDT
DTSTART:20230312T100000
END:DAYLIGHT
BEGIN:STANDARD
TZOFFSETFROM:-0700
TZOFFSETTO:-0800
TZNAME:PST
DTSTART:20231105T090000
END:STANDARD
END:VTIMEZONE
BEGIN:VEVENT
DTSTART;TZID=America/Vancouver:20230207T110000
DTEND;TZID=America/Vancouver:20230207T120000
DTSTAMP:20260421T082010
CREATED:20230113T180804Z
LAST-MODIFIED:20230113T180804Z
UID:8207-1675767600-1675771200@www.atomicmassgames.com
SUMMARY:Star Wars: Legion -  Painting Asajj Ventress
DESCRIPTION:
URL:https://www.atomicmassgames.com/event/star-wars-legion-painting-asajj-ventress/
CATEGORIES:Livestream
END:VEVENT
BEGIN:VEVENT
DTSTART;TZID=America/Vancouver:20230208T110000
DTEND;TZID=America/Vancouver:20230208T120000
DTSTAMP:20260421T082010
CREATED:20230113T180804Z
LAST-MODIFIED:20230113T180804Z
UID:8208-1675854000-1675857600@www.atomicmassgames.com
SUMMARY:Marvel: Crisis Protocol - Painting Agent Venom
DESCRIPTION:
URL:https://www.atomicmassgames.com/event/marvel-crisis-protocol-painting-agent-venom/
CATEGORIES:Livestream
END:VEVENT
BEGIN:VEVENT
DTSTART;TZID=America/Vancouver:20230214T110000
DTEND;TZID=America/Vancouver:20230214T120000
DTSTAMP:20260421T082010
CREATED:20230113T180804Z
LAST-MODIFIED:20230113T180804Z
UID:8209-1676372400-1676376000@www.atomicmassgames.com
SUMMARY:Marvel: Crisis Protocol - Painting Psylocke
DESCRIPTION:
URL:https://www.atomicmassgames.com/event/marvel-crisis-protocol-painting-psylocke/
CATEGORIES:Livestream
END:VEVENT
BEGIN:VEVENT
DTSTART;TZID=America/Vancouver:20230215T110000
DTEND;TZID=America/Vancouver:20230215T120000
DTSTAMP:20260421T082010
CREATED:20230113T180805Z
LAST-MODIFIED:20230113T180805Z
UID:8210-1676458800-1676462400@www.atomicmassgames.com
SUMMARY:Marvel: Crisis Protocol - The Worthy Check-in
DESCRIPTION:
URL:https://www.atomicmassgames.com/event/marvel-crisis-protocol-the-worthy-check-in/
CATEGORIES:Livestream
END:VEVENT
BEGIN:VEVENT
DTSTART;TZID=America/Vancouver:20230221T130000
DTEND;TZID=America/Vancouver:20230221T150000
DTSTAMP:20260421T082010
CREATED:20230113T180805Z
LAST-MODIFIED:20230113T181220Z
UID:8211-1676984400-1676991600@www.atomicmassgames.com
SUMMARY:Marvel: Crisis Protocol Gameplay
DESCRIPTION:
URL:https://www.atomicmassgames.com/event/marvel-crisis-protocol-gameplay/
CATEGORIES:Livestream
END:VEVENT
END:VCALENDAR